BEGIN:VCALENDAR
VERSION:2.0
PRODID:-//Universal Athletic Club - ECPv6.15.20//NONSGML v1.0//EN
CALSCALE:GREGORIAN
METHOD:PUBLISH
X-WR-CALNAME:Universal Athletic Club
X-ORIGINAL-URL:https://www.universalathleticclub.com
X-WR-CALDESC:Events for Universal Athletic Club
REFRESH-INTERVAL;VALUE=DURATION:PT1H
X-Robots-Tag:noindex
X-PUBLISHED-TTL:PT1H
BEGIN:VTIMEZONE
TZID:America/New_York
BEGIN:DAYLIGHT
TZOFFSETFROM:-0500
TZOFFSETTO:-0400
TZNAME:EDT
DTSTART:20210314T070000
END:DAYLIGHT
BEGIN:STANDARD
TZOFFSETFROM:-0400
TZOFFSETTO:-0500
TZNAME:EST
DTSTART:20211107T060000
END:STANDARD
BEGIN:DAYLIGHT
TZOFFSETFROM:-0500
TZOFFSETTO:-0400
TZNAME:EDT
DTSTART:20220313T070000
END:DAYLIGHT
BEGIN:STANDARD
TZOFFSETFROM:-0400
TZOFFSETTO:-0500
TZNAME:EST
DTSTART:20221106T060000
END:STANDARD
BEGIN:DAYLIGHT
TZOFFSETFROM:-0500
TZOFFSETTO:-0400
TZNAME:EDT
DTSTART:20230312T070000
END:DAYLIGHT
BEGIN:STANDARD
TZOFFSETFROM:-0400
TZOFFSETTO:-0500
TZNAME:EST
DTSTART:20231105T060000
END:STANDARD
BEGIN:DAYLIGHT
TZOFFSETFROM:-0500
TZOFFSETTO:-0400
TZNAME:EDT
DTSTART:20240310T070000
END:DAYLIGHT
BEGIN:STANDARD
TZOFFSETFROM:-0400
TZOFFSETTO:-0500
TZNAME:EST
DTSTART:20241103T060000
END:STANDARD
BEGIN:DAYLIGHT
TZOFFSETFROM:-0500
TZOFFSETTO:-0400
TZNAME:EDT
DTSTART:20250309T070000
END:DAYLIGHT
BEGIN:STANDARD
TZOFFSETFROM:-0400
TZOFFSETTO:-0500
TZNAME:EST
DTSTART:20251102T060000
END:STANDARD
BEGIN:DAYLIGHT
TZOFFSETFROM:-0500
TZOFFSETTO:-0400
TZNAME:EDT
DTSTART:20260308T070000
END:DAYLIGHT
BEGIN:STANDARD
TZOFFSETFROM:-0400
TZOFFSETTO:-0500
TZNAME:EST
DTSTART:20261101T060000
END:STANDARD
END:VTIMEZONE
BEGIN:VEVENT
DTSTART;TZID=America/New_York:20220410T080000
DTEND;TZID=America/New_York:20220416T190000
DTSTAMP:20260422T043903
CREATED:20210218T153451Z
LAST-MODIFIED:20210218T153451Z
UID:10000119-1649577600-1650135600@www.universalathleticclub.com
SUMMARY:Spring Swim Lessons - 1st Week
DESCRIPTION:
URL:https://www.universalathleticclub.com/event/spring-swim-lessons/
END:VEVENT
BEGIN:VEVENT
DTSTART;VALUE=DATE:20220901
DTEND;VALUE=DATE:20221001
DTSTAMP:20260422T043903
CREATED:20220831T133530Z
LAST-MODIFIED:20220901T174502Z
UID:10000166-1661990400-1664582399@www.universalathleticclub.com
SUMMARY:Join Now and Your Family is Free
DESCRIPTION:As soon as you walk through the doors at Universal Athletic Cub you immediatly understand that this place is more than just a gym. Whether You’re Brand New To Fitness Or An Experienced Exerciser\, Our Goal Is To Make You Feel Comfortable And Confident. We believe that the time you spend in improving or maintaining your well being should be enjoyable! If you love what you do\, you’re more likely to be successful in reaching your goals and living a healthy and happy life. \nWhat if you could start living life better now\, start paying later and the entire family would benefit? Getting fit and living life better doesn’t have to cost you a fortune and at Universal we have something for everyone. No matter what your age. \nThe value in a UAC membership is in what you get for what you pay. Your UAC membership includes yoga\, weight training\, swimming\, group fitness\, dance fitness\, indoor track\, basketball\, pickleball\, virtual fitness\, martial arts\, and all of our state-of-the-art machines\, functional training equipment and more! Why pay for a Yoga only facility when you can have Yoga and everything else UAC offers at a lower price? \nYour membership also includes use of many of our recovery tools which are an important part of a healthy happy life. Theragun Massage\, warm pools\, Normatec compression\, Hyperice Vyper\, roller\, Cold Tub therapy\, sauna\, hot tub & more. You can even just sit\, relax and enjoy a cup of coffee or a yummy protein shake from cafe U. The possibilities for you and your family are endless and it can all start today! \nVisit Member Services at Universal Athletic Club or call 717-569-5396 to get started. This offer is not available for purchase online.
URL:https://www.universalathleticclub.com/event/join-now-and-add-your-family-for-free-for-the-rest-of-the-year/
LOCATION:Universal Athletic Club\, 2323 Oregon Pike\, Lancaster\, PA\, 1760\, United States
ATTACH;FMTTYPE=image/jpeg:https://www.universalathleticclub.com/wp-content/uploads/2022/08/EventPageImage_1200x628_FamilFree.jpg
GEO:39.81037;-76.18867
X-APPLE-STRUCTURED-LOCATION;VALUE=URI;X-ADDRESS=Universal Athletic Club 2323 Oregon Pike Lancaster PA 1760 United States;X-APPLE-RADIUS=500;X-TITLE=2323 Oregon Pike:geo:-76.18867,39.81037
END:VEVENT
BEGIN:VEVENT
DTSTART;VALUE=DATE:20220905
DTEND;VALUE=DATE:20220913
DTSTAMP:20260422T043903
CREATED:20220527T173927Z
LAST-MODIFIED:20231002T145747Z
UID:10000162-1662336000-1663027199@www.universalathleticclub.com
SUMMARY:MyZone Contest – 1st Week
DESCRIPTION:First Week MyZone Challenge
URL:https://www.universalathleticclub.com/event/myzone-contest-1st-week/
END:VEVENT
BEGIN:VEVENT
DTSTART;TZID=America/New_York:20220910T060000
DTEND;TZID=America/New_York:20220911T170000
DTSTAMP:20260422T043903
CREATED:20220901T161820Z
LAST-MODIFIED:20220901T162938Z
UID:10000167-1662789600-1662915600@www.universalathleticclub.com
SUMMARY:Studio 5 Grand Opening
DESCRIPTION:Our Mind/Body Studio is reinventing itself and we’re making your Yoga experience even better. Join us for a special Grand Opening weekend as we bring you a new and updated studio experience. Reminder that All Yoga classes are included in a Universal membership. Come try us for the first time or come see what’s new.\n\nWhat to expect:\n\n\nNew classes\n\n\n\n\nNew Instructors\n\n\n\n\nMembers can bring a guest for free\n\n\n\n\nPrizes and giveaways
URL:https://www.universalathleticclub.com/event/labor-day-schedule-copy/
ATTACH;FMTTYPE=image/jpeg:https://www.universalathleticclub.com/wp-content/uploads/2022/09/Studio5Weekend_EventPageImage_1200x628.jpg
END:VEVENT
BEGIN:VEVENT
DTSTART;VALUE=DATE:20221001
DTEND;VALUE=DATE:20221029
DTSTAMP:20260422T043903
CREATED:20220929T143801Z
LAST-MODIFIED:20221214T055132Z
UID:10000168-1664582400-1667001599@www.universalathleticclub.com
SUMMARY:No Tricks\, Just Treats
DESCRIPTION:As soon as you walk through the doors at Universal Athletic Cub you immediately understand that this place is more than just a gym. Whether You’re Brand New To Fitness Or An Experienced Exerciser\, Our Goal Is To Make You Feel Comfortable And Confident. We believe that the time you spend in improving or maintaining your well being should be enjoyable! If you love what you do\, you’re more likely to be successful in reaching your goals and living a healthy and happy life. \nWhat if you could start living life better now\, start paying later and the entire family would benefit? Getting fit and living life better doesn’t have to cost you a fortune and at Universal we have something for everyone. No matter what your age. \nThe value in a UAC membership is in what you get for what you pay. Your UAC membership includes yoga\, weight training\, swimming\, group fitness\, dance fitness\, indoor track\, basketball\, pickleball\, virtual fitness\, martial arts\, and all of our state-of-the-art machines\, functional training equipment and more! Why pay for a Yoga only facility when you can have Yoga and everything else UAC offers at a lower price? \nYour membership also includes use of many of our recovery tools which are an important part of a healthy happy life. Theragun Massage\, warm pools\, Normatec compression\, Hyperice Vyper roller\, Cold Tub therapy\, sauna\, hot tub & more. You can even just sit\, relax and enjoy a cup of coffee or a yummy protein shake from Cafe U. The possibilities for you and your family are endless and it can all start today! \nVisit Member Services\, call 717-569-5396 or click here to secure this deal now!
URL:https://www.universalathleticclub.com/event/no-tricks-just-treats/
END:VEVENT
BEGIN:VEVENT
DTSTART;TZID=America/New_York:20230716T110500
DTEND;TZID=America/New_York:20230716T120500
DTSTAMP:20260422T043903
CREATED:20230703T131550Z
LAST-MODIFIED:20230703T131815Z
UID:10000090-1689505500-1689509100@www.universalathleticclub.com
SUMMARY:BodyBalance 100 Release
DESCRIPTION:We’re Celebrating 25 years of LESMILLS BODYBALANCE with a special class by candlelight.
URL:https://www.universalathleticclub.com/event/bodybalance-100-release/
END:VEVENT
BEGIN:VEVENT
DTSTART;TZID=America/New_York:20230913T120000
DTEND;TZID=America/New_York:20230913T130000
DTSTAMP:20260422T043903
CREATED:20230905T140712Z
LAST-MODIFIED:20230906T175937Z
UID:10000173-1694606400-1694610000@www.universalathleticclub.com
SUMMARY:Medicare Plan Seminar
DESCRIPTION:CLICK IMAGE BELOW TO REGISTER! \n \n 
URL:https://www.universalathleticclub.com/event/medicare-plan-seminar/
ATTACH;FMTTYPE=image/png:https://www.universalathleticclub.com/wp-content/uploads/2023/06/UAC-Sponsor-Logos-200-×-200-px-1.png
END:VEVENT
BEGIN:VEVENT
DTSTART;TZID=America/New_York:20231016T080000
DTEND;TZID=America/New_York:20231020T200000
DTSTAMP:20260422T043903
CREATED:20210218T155624Z
LAST-MODIFIED:20231002T143403Z
UID:10000120-1697443200-1697832000@www.universalathleticclub.com
SUMMARY:Free Training Week
DESCRIPTION:
URL:https://www.universalathleticclub.com/event/free-training-week/
END:VEVENT
BEGIN:VEVENT
DTSTART;TZID=America/New_York:20240122T073000
DTEND;TZID=America/New_York:20240218T120000
DTSTAMP:20260422T043903
CREATED:20220111T164351Z
LAST-MODIFIED:20240108T173647Z
UID:10000157-1705908600-1708257600@www.universalathleticclub.com
SUMMARY:Group Fitness Challenge
DESCRIPTION:
URL:https://www.universalathleticclub.com/event/group-fitness-challenge/
END:VEVENT
BEGIN:VEVENT
DTSTART;TZID=America/New_York:20240704T060000
DTEND;TZID=America/New_York:20240704T140000
DTSTAMP:20260422T043903
CREATED:20211115T163210Z
LAST-MODIFIED:20250623T150554Z
UID:10000152-1720072800-1720101600@www.universalathleticclub.com
SUMMARY:July 4th
DESCRIPTION:
URL:https://www.universalathleticclub.com/event/holiday/
END:VEVENT
BEGIN:VEVENT
DTSTART;TZID=America/New_York:20241031T100000
DTEND;TZID=America/New_York:20241031T223000
DTSTAMP:20260422T043903
CREATED:20241028T171512Z
LAST-MODIFIED:20241028T172410Z
UID:10000751-1730368800-1730413800@www.universalathleticclub.com
SUMMARY:Kids Halloween Parade
DESCRIPTION:
URL:https://www.universalathleticclub.com/event/kids-halloween-parade/
ATTACH;FMTTYPE=image/png:https://www.universalathleticclub.com/wp-content/uploads/2024/10/EventPageImage_1200x628_Halloween.png
END:VEVENT
BEGIN:VEVENT
DTSTART;TZID=America/New_York:20241128T060000
DTEND;TZID=America/New_York:20241128T140000
DTSTAMP:20260422T043903
CREATED:20241119T172233Z
LAST-MODIFIED:20241119T172233Z
UID:10000755-1732773600-1732802400@www.universalathleticclub.com
SUMMARY:Thanksgiving Holiday
DESCRIPTION:
URL:https://www.universalathleticclub.com/event/thanksgiving-holiday/
END:VEVENT
BEGIN:VEVENT
DTSTART;TZID=America/New_York:20241206T180000
DTEND;TZID=America/New_York:20241206T213000
DTSTAMP:20260422T043903
CREATED:20241031T155043Z
LAST-MODIFIED:20241031T155043Z
UID:10000753-1733508000-1733520600@www.universalathleticclub.com
SUMMARY:Kids Night Out - Pajama Party
DESCRIPTION:  \nREGISTER NOW! \nEnrollment Available For Current Month’s Events Only. \n  \n  \n  \n 
URL:https://www.universalathleticclub.com/event/pajama_party/
ATTACH;FMTTYPE=image/png:https://www.universalathleticclub.com/wp-content/uploads/2024/10/EventPageImage_1200x628_PajamaParty.png
END:VEVENT
BEGIN:VEVENT
DTSTART;TZID=America/New_York:20241224T050000
DTEND;TZID=America/New_York:20241224T140000
DTSTAMP:20260422T043903
CREATED:20211115T165036Z
LAST-MODIFIED:20241218T133357Z
UID:10000154-1735016400-1735048800@www.universalathleticclub.com
SUMMARY:Christmas Eve Holiday
DESCRIPTION:Universal will be open from 5:00 am – 2:00 pm today. \n \n 
URL:https://www.universalathleticclub.com/event/christmas-eve-holiday/
ATTACH;FMTTYPE=image/png:https://www.universalathleticclub.com/wp-content/uploads/2021/11/happy-holidays-header.png
END:VEVENT
BEGIN:VEVENT
DTSTART;VALUE=DATE:20241225
DTEND;VALUE=DATE:20241226
DTSTAMP:20260422T043903
CREATED:20211115T164840Z
LAST-MODIFIED:20241204T185940Z
UID:10000153-1735084800-1735171199@www.universalathleticclub.com
SUMMARY:Christmas Holiday - CLOSED
DESCRIPTION:Universal will be closed today – enjoy time with your family & friends! \n 
URL:https://www.universalathleticclub.com/event/christmas-holiday/
ATTACH;FMTTYPE=image/png:https://www.universalathleticclub.com/wp-content/uploads/2021/11/happy-holidays-header.png
END:VEVENT
BEGIN:VEVENT
DTSTART;TZID=America/New_York:20241231T050000
DTEND;TZID=America/New_York:20241231T160000
DTSTAMP:20260422T043903
CREATED:20211115T165132Z
LAST-MODIFIED:20241218T133557Z
UID:10000155-1735621200-1735660800@www.universalathleticclub.com
SUMMARY:New Year's Eve Holiday
DESCRIPTION:Universal will be open from 5:00 am – 4:00 pm today.
URL:https://www.universalathleticclub.com/event/new-years-eve-holiday/
ATTACH;FMTTYPE=image/png:https://www.universalathleticclub.com/wp-content/uploads/2021/11/happy-holidays-header.png
END:VEVENT
BEGIN:VEVENT
DTSTART;TZID=America/New_York:20250101T080000
DTEND;TZID=America/New_York:20250101T160000
DTSTAMP:20260422T043903
CREATED:20211115T165232Z
LAST-MODIFIED:20241216T171650Z
UID:10000156-1735718400-1735747200@www.universalathleticclub.com
SUMMARY:New Years Day Holiday
DESCRIPTION:Universal will be open from 8:00 am – 4:00 pm today.
URL:https://www.universalathleticclub.com/event/new-years-day-holiday/
ATTACH;FMTTYPE=image/png:https://www.universalathleticclub.com/wp-content/uploads/2021/11/happy-holidays-header.png
END:VEVENT
BEGIN:VEVENT
DTSTART;TZID=America/New_York:20250110T180000
DTEND;TZID=America/New_York:20250110T213000
DTSTAMP:20260422T043903
CREATED:20241223T150017Z
LAST-MODIFIED:20241231T135713Z
UID:10000759-1736532000-1736544600@www.universalathleticclub.com
SUMMARY:Kids Night Out - Game Night
DESCRIPTION:  \nREGISTER NOW! \nEnrollment Available For Current Month’s Events Only. \n  \n  \n  \n 
URL:https://www.universalathleticclub.com/event/game-night/
ATTACH;FMTTYPE=image/png:https://www.universalathleticclub.com/wp-content/uploads/2024/12/GameNightEventPageImage_1200x628.png
END:VEVENT
BEGIN:VEVENT
DTSTART;TZID=America/New_York:20250316T090000
DTEND;TZID=America/New_York:20250316T180000
DTSTAMP:20260422T043903
CREATED:20210303T175946Z
LAST-MODIFIED:20250121T154251Z
UID:10000771-1742115600-1742148000@www.universalathleticclub.com
SUMMARY:American Red Cross Lifeguard Recertification Courses
DESCRIPTION:
URL:https://www.universalathleticclub.com/event/american-red-cross-lifeguard-training-recertification-courses-5-2/
ATTACH;FMTTYPE=image/png:https://www.universalathleticclub.com/wp-content/uploads/2021/03/Lifeguaard_EventPageImage_1200x628.png
END:VEVENT
BEGIN:VEVENT
DTSTART;TZID=America/New_York:20250328T180000
DTEND;TZID=America/New_York:20250328T213000
DTSTAMP:20260422T043903
CREATED:20250224T180647Z
LAST-MODIFIED:20250224T180712Z
UID:10000775-1743184800-1743197400@www.universalathleticclub.com
SUMMARY:Kids Night Out - Fitness Fest
DESCRIPTION:  \nREGISTER NOW! \nEnrollment Available For Current Month’s Events Only. \n  \n  \n  \n 
URL:https://www.universalathleticclub.com/event/fitness-fest/
ATTACH;FMTTYPE=image/png:https://www.universalathleticclub.com/wp-content/uploads/2025/02/EventPageImage_KidzFitnessFest_1200x628.png
END:VEVENT
BEGIN:VEVENT
DTSTART;TZID=America/New_York:20250411T090000
DTEND;TZID=America/New_York:20250413T200000
DTSTAMP:20260422T043903
CREATED:20240104T163545Z
LAST-MODIFIED:20250121T141229Z
UID:10000722-1744362000-1744574400@www.universalathleticclub.com
SUMMARY:American Red Cross Lifeguard Full Courses
DESCRIPTION:CLICK HERE TO BOOK
URL:https://www.universalathleticclub.com/event/american-red-cross-lifeguard-full-courses-2/
ATTACH;FMTTYPE=image/png:https://www.universalathleticclub.com/wp-content/uploads/2021/03/Lifeguaard_EventPageImage_1200x628.png
END:VEVENT
BEGIN:VEVENT
DTSTART;TZID=America/New_York:20250411T180000
DTEND;TZID=America/New_York:20250411T213000
DTSTAMP:20260422T043903
CREATED:20240320T143618Z
LAST-MODIFIED:20250331T142647Z
UID:10000731-1744394400-1744407000@www.universalathleticclub.com
SUMMARY:Kids Night Out - Puzzle Party
DESCRIPTION:  \nREGISTER NOW! \nEnrollment Available For Current Month’s Events Only. \n  \n  \n  \n 
URL:https://www.universalathleticclub.com/event/puzzleparty/
ATTACH;FMTTYPE=image/png:https://www.universalathleticclub.com/wp-content/uploads/2024/03/KNOPuzzle_EventPageImage_1200x628.png
END:VEVENT
BEGIN:VEVENT
DTSTART;TZID=America/New_York:20250516T080000
DTEND;TZID=America/New_York:20250518T200000
DTSTAMP:20260422T043903
CREATED:20240104T162729Z
LAST-MODIFIED:20250121T141425Z
UID:10000720-1747382400-1747598400@www.universalathleticclub.com
SUMMARY:American Red Cross Lifeguard Full Courses
DESCRIPTION:
URL:https://www.universalathleticclub.com/event/american-red-cross-lifeguard-full-courses/
ATTACH;FMTTYPE=image/png:https://www.universalathleticclub.com/wp-content/uploads/2021/03/Lifeguaard_EventPageImage_1200x628.png
END:VEVENT
BEGIN:VEVENT
DTSTART;TZID=America/New_York:20250526T060000
DTEND;TZID=America/New_York:20250526T140000
DTSTAMP:20260422T043903
CREATED:20220523T155756Z
LAST-MODIFIED:20250513T160314Z
UID:10000160-1748239200-1748268000@www.universalathleticclub.com
SUMMARY:Memorial Day
DESCRIPTION:Universal will be open 6am-2pm and operate with modified department hours and class schedules.
URL:https://www.universalathleticclub.com/event/memorial-day/
END:VEVENT
BEGIN:VEVENT
DTSTART;TZID=America/New_York:20250801T180000
DTEND;TZID=America/New_York:20250801T213000
DTSTAMP:20260422T043903
CREATED:20250716T120749Z
LAST-MODIFIED:20250728T132132Z
UID:10000788-1754071200-1754083800@www.universalathleticclub.com
SUMMARY:Kids Night Out Carnival
DESCRIPTION:REGISTER NOW\, SCAN QR CODE!
URL:https://www.universalathleticclub.com/event/kids-night-out-carnival/
ATTACH;FMTTYPE=image/png:https://www.universalathleticclub.com/wp-content/uploads/2025/07/KNOCarnival_EventPageImage_1200x628.png
END:VEVENT
BEGIN:VEVENT
DTSTART;TZID=America/New_York:20250901T060000
DTEND;TZID=America/New_York:20250901T170000
DTSTAMP:20260422T043903
CREATED:20220824T134301Z
LAST-MODIFIED:20250813T174124Z
UID:10000165-1756706400-1756746000@www.universalathleticclub.com
SUMMARY:Labor Day Schedule
DESCRIPTION:Club is open 6am-5pm and will operate with modified hours and schedules.
URL:https://www.universalathleticclub.com/event/labor-day-schedule/
ATTACH;FMTTYPE=image/png:https://www.universalathleticclub.com/wp-content/uploads/2022/08/LaborDay_EventPageImage_1200x628.png
END:VEVENT
BEGIN:VEVENT
DTSTART;TZID=America/New_York:20250924T080000
DTEND;TZID=America/New_York:20250924T170000
DTSTAMP:20260422T043903
CREATED:20210519T134022Z
LAST-MODIFIED:20251118T180932Z
UID:10000810-1758700800-1758733200@www.universalathleticclub.com
SUMMARY:Vertical Jump Clinic
DESCRIPTION:RESERVE YOUR SPOT NOW!
URL:https://www.universalathleticclub.com/event/vertical-jump/2025-09-24/1/
ATTACH;FMTTYPE=image/png:https://www.universalathleticclub.com/wp-content/uploads/2021/05/VerticalJumpClinic_EventPageImage_1200x628.png
END:VEVENT
BEGIN:VEVENT
DTSTART;TZID=America/New_York:20250924T180000
DTEND;TZID=America/New_York:20251112T190000
DTSTAMP:20260422T043903
CREATED:20210519T134022Z
LAST-MODIFIED:20251118T180932Z
UID:10000793-1758736800-1762974000@www.universalathleticclub.com
SUMMARY:Vertical Jump Clinic
DESCRIPTION:RESERVE YOUR SPOT NOW!
URL:https://www.universalathleticclub.com/event/vertical-jump/2025-09-24/2/
ATTACH;FMTTYPE=image/png:https://www.universalathleticclub.com/wp-content/uploads/2021/05/VerticalJumpClinic_EventPageImage_1200x628.png
END:VEVENT
BEGIN:VEVENT
DTSTART;TZID=America/New_York:20251012T120000
DTEND;TZID=America/New_York:20251012T130000
DTSTAMP:20260422T043903
CREATED:20250306T144525Z
LAST-MODIFIED:20251006T171535Z
UID:10000776-1760270400-1760274000@www.universalathleticclub.com
SUMMARY:BODYJAM Charity Dance Fundraiser
DESCRIPTION:MINIMUM DONATION OF $10 TAKEN AT DOOR ON DAY OF EVENT
URL:https://www.universalathleticclub.com/event/bodyjam-charity-dance-fundraiser/
LOCATION:Universal Athletic Club\, 2323 Oregon Pike\, Lancaster\, PA\, 1760\, United States
GEO:39.81037;-76.18867
X-APPLE-STRUCTURED-LOCATION;VALUE=URI;X-ADDRESS=Universal Athletic Club 2323 Oregon Pike Lancaster PA 1760 United States;X-APPLE-RADIUS=500;X-TITLE=2323 Oregon Pike:geo:-76.18867,39.81037
END:VEVENT
BEGIN:VEVENT
DTSTART;TZID=America/New_York:20251013T070000
DTEND;TZID=America/New_York:20251013T180000
DTSTAMP:20260422T043903
CREATED:20231017T122715Z
LAST-MODIFIED:20260312T143218Z
UID:10000792-1760338800-1760378400@www.universalathleticclub.com
SUMMARY:Holiday Camp
DESCRIPTION:Give your kids a day packed with fun — and give yourself a day of freedom!  At Camp Universal\, kids will explore the Kidmazium\, make awesome crafts\, splash in the indoor aquatics center\, play basketball and other sports\, enjoy snacks\, and so much more! \nWhat will they do all day? Play\, laugh\, and make memories.  What will you do all day? Whatever you want!\nHoliday Camp will not be in session if Manheim Township reinstates a day off due to weather. \n\nFull Day $60/day\n7am-6pm \nBUY NOW! \n 
URL:https://www.universalathleticclub.com/event/holiday-camp/
ATTACH;FMTTYPE=image/png:https://www.universalathleticclub.com/wp-content/uploads/2023/10/HolidayCamp_EventPageImage_1200x628.png
END:VEVENT
END:VCALENDAR