BEGIN:VCALENDAR
VERSION:2.0
PRODID:-//Universal Athletic Club - ECPv6.15.20//NONSGML v1.0//EN
CALSCALE:GREGORIAN
METHOD:PUBLISH
X-WR-CALNAME:Universal Athletic Club
X-ORIGINAL-URL:https://www.universalathleticclub.com
X-WR-CALDESC:Events for Universal Athletic Club
REFRESH-INTERVAL;VALUE=DURATION:PT1H
X-Robots-Tag:noindex
X-PUBLISHED-TTL:PT1H
BEGIN:VTIMEZONE
TZID:America/New_York
BEGIN:DAYLIGHT
TZOFFSETFROM:-0500
TZOFFSETTO:-0400
TZNAME:EDT
DTSTART:20240310T070000
END:DAYLIGHT
BEGIN:STANDARD
TZOFFSETFROM:-0400
TZOFFSETTO:-0500
TZNAME:EST
DTSTART:20241103T060000
END:STANDARD
BEGIN:DAYLIGHT
TZOFFSETFROM:-0500
TZOFFSETTO:-0400
TZNAME:EDT
DTSTART:20250309T070000
END:DAYLIGHT
BEGIN:STANDARD
TZOFFSETFROM:-0400
TZOFFSETTO:-0500
TZNAME:EST
DTSTART:20251102T060000
END:STANDARD
BEGIN:DAYLIGHT
TZOFFSETFROM:-0500
TZOFFSETTO:-0400
TZNAME:EDT
DTSTART:20260308T070000
END:DAYLIGHT
BEGIN:STANDARD
TZOFFSETFROM:-0400
TZOFFSETTO:-0500
TZNAME:EST
DTSTART:20261101T060000
END:STANDARD
BEGIN:DAYLIGHT
TZOFFSETFROM:-0500
TZOFFSETTO:-0400
TZNAME:EDT
DTSTART:20270314T070000
END:DAYLIGHT
BEGIN:STANDARD
TZOFFSETFROM:-0400
TZOFFSETTO:-0500
TZNAME:EST
DTSTART:20271107T060000
END:STANDARD
END:VTIMEZONE
BEGIN:VEVENT
DTSTART;TZID=America/New_York:20251125T070000
DTEND;TZID=America/New_York:20251125T180000
DTSTAMP:20260423T073556
CREATED:20231017T122715Z
LAST-MODIFIED:20260312T143218Z
UID:10000802-1764054000-1764093600@www.universalathleticclub.com
SUMMARY:Holiday Camp
DESCRIPTION:Give your kids a day packed with fun — and give yourself a day of freedom!  At Camp Universal\, kids will explore the Kidmazium\, make awesome crafts\, splash in the indoor aquatics center\, play basketball and other sports\, enjoy snacks\, and so much more! \nWhat will they do all day? Play\, laugh\, and make memories.  What will you do all day? Whatever you want!\nHoliday Camp will not be in session if Manheim Township reinstates a day off due to weather. \n\nFull Day $60/day\n7am-6pm \nBUY NOW! \n 
URL:https://www.universalathleticclub.com/event/holiday-camp/
ATTACH;FMTTYPE=image/png:https://www.universalathleticclub.com/wp-content/uploads/2023/10/HolidayCamp_EventPageImage_1200x628.png
END:VEVENT
BEGIN:VEVENT
DTSTART;TZID=America/New_York:20251212T180000
DTEND;TZID=America/New_York:20251212T190000
DTSTAMP:20260423T073556
CREATED:20251119T180717Z
LAST-MODIFIED:20251124T150139Z
UID:10000812-1765562400-1765566000@www.universalathleticclub.com
SUMMARY:Jingle Bell JAM
DESCRIPTION:
URL:https://www.universalathleticclub.com/event/jingle-bell-jam/
END:VEVENT
BEGIN:VEVENT
DTSTART;TZID=America/New_York:20251213T100000
DTEND;TZID=America/New_York:20251213T120000
DTSTAMP:20260423T073556
CREATED:20241028T160459Z
LAST-MODIFIED:20251103T164224Z
UID:10000750-1765620000-1765627200@www.universalathleticclub.com
SUMMARY:Cookies with Santa
DESCRIPTION: 
URL:https://www.universalathleticclub.com/event/cookies-with-santa/
END:VEVENT
BEGIN:VEVENT
DTSTART;TZID=America/New_York:20251219T180000
DTEND;TZID=America/New_York:20251219T213000
DTSTAMP:20260423T073556
CREATED:20241031T160306Z
LAST-MODIFIED:20251118T183509Z
UID:10000754-1766167200-1766179800@www.universalathleticclub.com
SUMMARY:Kids Night Out - North Pole Party
DESCRIPTION:  \nREGISTER NOW! \nEnrollment Available For Current Month’s Events Only. \n  \n  \n  \n 
URL:https://www.universalathleticclub.com/event/north-pole/
ATTACH;FMTTYPE=image/png:https://www.universalathleticclub.com/wp-content/uploads/2024/10/EventPageImage_1200x628_NorthPoleParty.png
END:VEVENT
BEGIN:VEVENT
DTSTART;TZID=America/New_York:20260109T180000
DTEND;TZID=America/New_York:20260109T213000
DTSTAMP:20260423T073556
CREATED:20251222T155411Z
LAST-MODIFIED:20251222T155411Z
UID:10000813-1767981600-1767994200@www.universalathleticclub.com
SUMMARY:Kids Night Out - Glow
DESCRIPTION:  \nREGISTER NOW! \nEnrollment Available For Current Month’s Events Only. \n  \n  \n  \n 
URL:https://www.universalathleticclub.com/event/glow/
ATTACH;FMTTYPE=image/png:https://www.universalathleticclub.com/wp-content/uploads/2025/12/Glow_EventPageImage_1200x628.png
END:VEVENT
BEGIN:VEVENT
DTSTART;TZID=America/New_York:20260123T180000
DTEND;TZID=America/New_York:20260123T213000
DTSTAMP:20260423T073556
CREATED:20251222T162207Z
LAST-MODIFIED:20251222T162711Z
UID:10000814-1769191200-1769203800@www.universalathleticclub.com
SUMMARY:Kids Night Out - Lego
DESCRIPTION:  \nREGISTER NOW! \nEnrollment Available For Current Month’s Events Only. \n  \n  \n  \n 
URL:https://www.universalathleticclub.com/event/lego/
ATTACH;FMTTYPE=image/png:https://www.universalathleticclub.com/wp-content/uploads/2025/12/Lego_EventPageImage_1200x628.png
END:VEVENT
BEGIN:VEVENT
DTSTART;TZID=America/New_York:20260206T180000
DTEND;TZID=America/New_York:20260206T213000
DTSTAMP:20260423T073556
CREATED:20241031T153746Z
LAST-MODIFIED:20260113T173017Z
UID:10000752-1770400800-1770413400@www.universalathleticclub.com
SUMMARY:Kids Night Out - Inflatables
DESCRIPTION:  \nREGISTER NOW! \nEnrollment Available For Current Month’s Events Only. Pre-Registration is required for this event \n\n  \n  \n  \n 
URL:https://www.universalathleticclub.com/event/inflatables/
ATTACH;FMTTYPE=image/png:https://www.universalathleticclub.com/wp-content/uploads/2024/10/EventPageImage_1200x628_Inflatables.png
END:VEVENT
BEGIN:VEVENT
DTSTART;TZID=America/New_York:20260220T180000
DTEND;TZID=America/New_York:20260220T213000
DTSTAMP:20260423T073556
CREATED:20240116T155034Z
LAST-MODIFIED:20260210T160801Z
UID:10000723-1771610400-1771623000@www.universalathleticclub.com
SUMMARY:Kids Night Out - Sports
DESCRIPTION:Enrollment Available For Current Month’s Events Only. \nENROLL NOW!
URL:https://www.universalathleticclub.com/event/kids-night-out-sports/
ATTACH;FMTTYPE=image/png:https://www.universalathleticclub.com/wp-content/uploads/2024/01/KNOSportsNight_EventPageImage_1200x628.png
END:VEVENT
BEGIN:VEVENT
DTSTART;TZID=America/New_York:20260227T190000
DTEND;TZID=America/New_York:20260227T210000
DTSTAMP:20260423T073556
CREATED:20250319T124955Z
LAST-MODIFIED:20260210T131025Z
UID:10000815-1772218800-1772226000@www.universalathleticclub.com
SUMMARY:American Red Cross Lifeguard Recertification Courses
DESCRIPTION:
URL:https://www.universalathleticclub.com/event/american-red-cross-lifeguard-training-recertification-courses-5-2-2/2026-02-27/
ATTACH;FMTTYPE=image/png:https://www.universalathleticclub.com/wp-content/uploads/2025/03/Lifeguard_EventPageImage_1200x628.png
END:VEVENT
BEGIN:VEVENT
DTSTART;TZID=America/New_York:20260228T093000
DTEND;TZID=America/New_York:20260228T173000
DTSTAMP:20260423T073556
CREATED:20250319T124955Z
LAST-MODIFIED:20260210T131025Z
UID:10000816-1772271000-1772299800@www.universalathleticclub.com
SUMMARY:American Red Cross Lifeguard Recertification Courses
DESCRIPTION:
URL:https://www.universalathleticclub.com/event/american-red-cross-lifeguard-training-recertification-courses-5-2-2/2026-02-28/
ATTACH;FMTTYPE=image/png:https://www.universalathleticclub.com/wp-content/uploads/2025/03/Lifeguard_EventPageImage_1200x628.png
END:VEVENT
BEGIN:VEVENT
DTSTART;TZID=America/New_York:20260307T080000
DTEND;TZID=America/New_York:20260307T140000
DTSTAMP:20260423T073556
CREATED:20230216T185347Z
LAST-MODIFIED:20260218T145510Z
UID:10000087-1772870400-1772892000@www.universalathleticclub.com
SUMMARY:Spring Open House
DESCRIPTION:Lowest Prices of the Year. Club-Wide Savings on All Programs. Free Access\, Demos & Giveaways.\nFIND OUT MORE!
URL:https://www.universalathleticclub.com/event/spring-open-house/
ATTACH;FMTTYPE=image/png:https://www.universalathleticclub.com/wp-content/uploads/2023/02/EventPageImage_OpenHouse_1200x628-1.png
END:VEVENT
BEGIN:VEVENT
DTSTART;TZID=America/New_York:20260313T180000
DTEND;TZID=America/New_York:20260313T190000
DTSTAMP:20260423T073556
CREATED:20210831T190350Z
LAST-MODIFIED:20260305T140814Z
UID:10000142-1773424800-1773428400@www.universalathleticclub.com
SUMMARY:Dance Party
DESCRIPTION: 
URL:https://www.universalathleticclub.com/event/dance-party/
END:VEVENT
BEGIN:VEVENT
DTSTART;TZID=America/New_York:20260313T180000
DTEND;TZID=America/New_York:20260313T213000
DTSTAMP:20260423T073556
CREATED:20240305T171228Z
LAST-MODIFIED:20260217T135829Z
UID:10000730-1773424800-1773437400@www.universalathleticclub.com
SUMMARY:Kids Night Out - Racing Night
DESCRIPTION:REGISTER NOW! \nEnrollment Available For Current Month’s Events Only.
URL:https://www.universalathleticclub.com/event/kno-racing/
ATTACH;FMTTYPE=image/png:https://www.universalathleticclub.com/wp-content/uploads/2024/03/KNORacingNight_EventPageImage_1200x628.png
END:VEVENT
BEGIN:VEVENT
DTSTART;TZID=America/New_York:20260316T070000
DTEND;TZID=America/New_York:20260316T180000
DTSTAMP:20260423T073556
CREATED:20231017T122715Z
LAST-MODIFIED:20260312T143218Z
UID:10000817-1773644400-1773684000@www.universalathleticclub.com
SUMMARY:Holiday Camp
DESCRIPTION:Give your kids a day packed with fun — and give yourself a day of freedom!  At Camp Universal\, kids will explore the Kidmazium\, make awesome crafts\, splash in the indoor aquatics center\, play basketball and other sports\, enjoy snacks\, and so much more! \nWhat will they do all day? Play\, laugh\, and make memories.  What will you do all day? Whatever you want!\nHoliday Camp will not be in session if Manheim Township reinstates a day off due to weather. \n\nFull Day $60/day\n7am-6pm \nBUY NOW! \n 
URL:https://www.universalathleticclub.com/event/holiday-camp/
ATTACH;FMTTYPE=image/png:https://www.universalathleticclub.com/wp-content/uploads/2023/10/HolidayCamp_EventPageImage_1200x628.png
END:VEVENT
BEGIN:VEVENT
DTSTART;TZID=America/New_York:20260327T180000
DTEND;TZID=America/New_York:20260327T213000
DTSTAMP:20260423T073556
CREATED:20240923T152539Z
LAST-MODIFIED:20260217T140013Z
UID:10000747-1774634400-1774647000@www.universalathleticclub.com
SUMMARY:Kids Night Out - Art Studio
DESCRIPTION:  \nREGISTER NOW! \nEnrollment Available For Current Month’s Events Only. \n  \n  \n  \n 
URL:https://www.universalathleticclub.com/event/art-studio/
ATTACH;FMTTYPE=image/png:https://www.universalathleticclub.com/wp-content/uploads/2024/04/KNO_ArtStudio_EventPageImage_1200x628.png
END:VEVENT
BEGIN:VEVENT
DTSTART;TZID=America/New_York:20260403T070000
DTEND;TZID=America/New_York:20260403T180000
DTSTAMP:20260423T073556
CREATED:20260312T143648Z
LAST-MODIFIED:20260312T143648Z
UID:10000818-1775199600-1775239200@www.universalathleticclub.com
SUMMARY:Holiday Camp 2026
DESCRIPTION:Give your kids a day packed with fun — and give yourself a day of freedom!  At Camp Universal\, kids will explore the Kidmazium\, make awesome crafts\, splash in the indoor aquatics center\, play basketball and other sports\, enjoy snacks\, and so much more! \nWhat will they do all day? Play\, laugh\, and make memories.  What will you do all day? Whatever you want!\nHoliday Camp will not be in session if Manheim Township reinstates a day off due to weather. \n\nFull Day $60/day\n7am-6pm \nBUY NOW! \n 
URL:https://www.universalathleticclub.com/event/holiday-camp-2026/2026-04-03/
ATTACH;FMTTYPE=image/png:https://www.universalathleticclub.com/wp-content/uploads/2023/10/HolidayCamp_EventPageImage_1200x628.png
END:VEVENT
BEGIN:VEVENT
DTSTART;VALUE=DATE:20260405
DTEND;VALUE=DATE:20260406
DTSTAMP:20260423T073556
CREATED:20210401T144222Z
LAST-MODIFIED:20260312T141001Z
UID:10000126-1775347200-1775433599@www.universalathleticclub.com
SUMMARY:Happy Easter - Universal Closed
DESCRIPTION:Have a Happy Easter with your friends and family.   Universal Athletic Club is closed today.
URL:https://www.universalathleticclub.com/event/happy-easter-universal-closed/
ATTACH;FMTTYPE=image/png:https://www.universalathleticclub.com/wp-content/uploads/2021/04/EASTER_EventPageImage_1200x628-1.png
END:VEVENT
BEGIN:VEVENT
DTSTART;TZID=America/New_York:20260406T070000
DTEND;TZID=America/New_York:20260406T180000
DTSTAMP:20260423T073556
CREATED:20260312T143648Z
LAST-MODIFIED:20260312T143648Z
UID:10000819-1775458800-1775498400@www.universalathleticclub.com
SUMMARY:Holiday Camp 2026
DESCRIPTION:Give your kids a day packed with fun — and give yourself a day of freedom!  At Camp Universal\, kids will explore the Kidmazium\, make awesome crafts\, splash in the indoor aquatics center\, play basketball and other sports\, enjoy snacks\, and so much more! \nWhat will they do all day? Play\, laugh\, and make memories.  What will you do all day? Whatever you want!\nHoliday Camp will not be in session if Manheim Township reinstates a day off due to weather. \n\nFull Day $60/day\n7am-6pm \nBUY NOW! \n 
URL:https://www.universalathleticclub.com/event/holiday-camp-2026/2026-04-06/
ATTACH;FMTTYPE=image/png:https://www.universalathleticclub.com/wp-content/uploads/2023/10/HolidayCamp_EventPageImage_1200x628.png
END:VEVENT
BEGIN:VEVENT
DTSTART;TZID=America/New_York:20260410T180000
DTEND;TZID=America/New_York:20260410T213000
DTSTAMP:20260423T073556
CREATED:20250918T120111Z
LAST-MODIFIED:20260331T134531Z
UID:10000790-1775844000-1775856600@www.universalathleticclub.com
SUMMARY:Kids Night Out - Nerf Wars
DESCRIPTION:REGISTER NOW! \nEnrollment Available For Current Month’s Events Only. \n  \n  \n  \n 
URL:https://www.universalathleticclub.com/event/kids-night-out-nerf-wars/
ATTACH;FMTTYPE=image/jpeg:https://www.universalathleticclub.com/wp-content/uploads/2025/09/KNO_NerfWars_EventPageImage_1200x628-scaled.jpg
END:VEVENT
BEGIN:VEVENT
DTSTART;TZID=America/New_York:20260411T073000
DTEND;TZID=America/New_York:20260418T113000
DTSTAMP:20260423T073556
CREATED:20250403T131806Z
LAST-MODIFIED:20260407T155825Z
UID:10000779-1775892600-1776511800@www.universalathleticclub.com
SUMMARY:Group Fitness Launch
DESCRIPTION: 
URL:https://www.universalathleticclub.com/event/group-fitness-launch/
ATTACH;FMTTYPE=image/png:https://www.universalathleticclub.com/wp-content/uploads/2025/04/GFLaunch_EventPageImage_1200x628.png
END:VEVENT
BEGIN:VEVENT
DTSTART;TZID=America/New_York:20260412T090000
DTEND;TZID=America/New_York:20260412T100000
DTSTAMP:20260423T073556
CREATED:20220728T123144Z
LAST-MODIFIED:20260324T123455Z
UID:10000163-1775984400-1775988000@www.universalathleticclub.com
SUMMARY:Charity Bootcamp
DESCRIPTION:MAKE A DONATION & RESERVE YOUR SPOT NOW!
URL:https://www.universalathleticclub.com/event/boot-camp-for-charity/
CATEGORIES:Charity Boot Camp
ATTACH;FMTTYPE=image/png:https://www.universalathleticclub.com/wp-content/uploads/2022/07/Botcamp_EventPageImage_1200x628.png
END:VEVENT
BEGIN:VEVENT
DTSTART;TZID=America/New_York:20260412T120000
DTEND;TZID=America/New_York:20260412T150000
DTSTAMP:20260423T073556
CREATED:20210420T164227Z
LAST-MODIFIED:20260331T150152Z
UID:10000807-1775995200-1776006000@www.universalathleticclub.com
SUMMARY:Junior Certification
DESCRIPTION:This course is for teens between the ages of 12 – 15. The course certifies teens so that they may use selected fitness equipment without direct parental supervision. It also includes 2 Weeks of Youth Athletic Training and a tshirt! Registration is required. Cost is $45 per student. \nBUY NOW
URL:https://www.universalathleticclub.com/event/junior-certification-2/2026-04-12/
LOCATION:Universal Athletic Club\, 2323 Oregon Pike\, Lancaster\, PA\, 1760\, United States
ATTACH;FMTTYPE=image/png:https://www.universalathleticclub.com/wp-content/uploads/2023/09/EventPageImage_1200x628_JuniorCert.png
GEO:39.81037;-76.18867
X-APPLE-STRUCTURED-LOCATION;VALUE=URI;X-ADDRESS=Universal Athletic Club 2323 Oregon Pike Lancaster PA 1760 United States;X-APPLE-RADIUS=500;X-TITLE=2323 Oregon Pike:geo:-76.18867,39.81037
END:VEVENT
BEGIN:VEVENT
DTSTART;TZID=America/New_York:20260424T180000
DTEND;TZID=America/New_York:20260424T213000
DTSTAMP:20260423T073556
CREATED:20230713T132213Z
LAST-MODIFIED:20260331T134756Z
UID:10000717-1777053600-1777066200@www.universalathleticclub.com
SUMMARY:Kids Night Out - Swimming
DESCRIPTION:  \nBUY NOW! \nEnrollment Available For Current Month’s Events Only.
URL:https://www.universalathleticclub.com/event/swim/
ATTACH;FMTTYPE=image/png:https://www.universalathleticclub.com/wp-content/uploads/2023/07/KNOSwim_EventPageImage_1200x628.png
END:VEVENT
BEGIN:VEVENT
DTSTART;TZID=America/New_York:20260428T110000
DTEND;TZID=America/New_York:20260428T190000
DTSTAMP:20260423T073556
CREATED:20241126T171257Z
LAST-MODIFIED:20260407T132729Z
UID:10000756-1777374000-1777402800@www.universalathleticclub.com
SUMMARY:Blood Drive
DESCRIPTION:CLICK HERE OR SCAN QR CODE TO MAKE APPOINTMENT!
URL:https://www.universalathleticclub.com/event/blood-drive-dec/
CATEGORIES:blood drive
ATTACH;FMTTYPE=image/jpeg:https://www.universalathleticclub.com/wp-content/uploads/2021/02/BloodDrive_EventPageImage_1200x628.jpg
END:VEVENT
BEGIN:VEVENT
DTSTART;TZID=America/New_York:20260508T170000
DTEND;TZID=America/New_York:20260508T210000
DTSTAMP:20260423T073556
CREATED:20230321T142040Z
LAST-MODIFIED:20260310T133058Z
UID:10000088-1778259600-1778274000@www.universalathleticclub.com
SUMMARY:Hyrox EVENT
DESCRIPTION:Hyrox EVENT is NOW SOLD OUT – March 10\, 2026
URL:https://www.universalathleticclub.com/event/hyrox-event/
ATTACH;FMTTYPE=image/png:https://www.universalathleticclub.com/wp-content/uploads/2023/03/HYROX_EventPageImage_1200x628-1.png
END:VEVENT
BEGIN:VEVENT
DTSTART;TZID=America/New_York:20260515T180000
DTEND;TZID=America/New_York:20260515T213000
DTSTAMP:20260423T073556
CREATED:20240216T133846Z
LAST-MODIFIED:20260413T165611Z
UID:10000727-1778868000-1778880600@www.universalathleticclub.com
SUMMARY:Kids Night Out - Slime Time
DESCRIPTION:REGISTER NOW! \nEnrollment Available For Current Month’s Events Only.
URL:https://www.universalathleticclub.com/event/sept8-2/
ATTACH;FMTTYPE=image/png:https://www.universalathleticclub.com/wp-content/uploads/2024/02/KNOSlimeTime_EventPageImage_1200x628.png
END:VEVENT
BEGIN:VEVENT
DTSTART;TZID=America/New_York:20260517T100000
DTEND;TZID=America/New_York:20260517T130000
DTSTAMP:20260423T073556
CREATED:20210420T164227Z
LAST-MODIFIED:20260331T150152Z
UID:10000808-1779012000-1779022800@www.universalathleticclub.com
SUMMARY:Junior Certification
DESCRIPTION:This course is for teens between the ages of 12 – 15. The course certifies teens so that they may use selected fitness equipment without direct parental supervision. It also includes 2 Weeks of Youth Athletic Training and a tshirt! Registration is required. Cost is $45 per student. \nBUY NOW
URL:https://www.universalathleticclub.com/event/junior-certification-2/2026-05-17/
LOCATION:Universal Athletic Club\, 2323 Oregon Pike\, Lancaster\, PA\, 1760\, United States
ATTACH;FMTTYPE=image/png:https://www.universalathleticclub.com/wp-content/uploads/2023/09/EventPageImage_1200x628_JuniorCert.png
GEO:39.81037;-76.18867
X-APPLE-STRUCTURED-LOCATION;VALUE=URI;X-ADDRESS=Universal Athletic Club 2323 Oregon Pike Lancaster PA 1760 United States;X-APPLE-RADIUS=500;X-TITLE=2323 Oregon Pike:geo:-76.18867,39.81037
END:VEVENT
BEGIN:VEVENT
DTSTART;TZID=America/New_York:20260614T090000
DTEND;TZID=America/New_York:20260614T120000
DTSTAMP:20260423T073556
CREATED:20210420T164227Z
LAST-MODIFIED:20260331T150152Z
UID:10000809-1781427600-1781438400@www.universalathleticclub.com
SUMMARY:Junior Certification
DESCRIPTION:This course is for teens between the ages of 12 – 15. The course certifies teens so that they may use selected fitness equipment without direct parental supervision. It also includes 2 Weeks of Youth Athletic Training and a tshirt! Registration is required. Cost is $45 per student. \nBUY NOW
URL:https://www.universalathleticclub.com/event/junior-certification-2/2026-06-14/
LOCATION:Universal Athletic Club\, 2323 Oregon Pike\, Lancaster\, PA\, 1760\, United States
ATTACH;FMTTYPE=image/png:https://www.universalathleticclub.com/wp-content/uploads/2023/09/EventPageImage_1200x628_JuniorCert.png
GEO:39.81037;-76.18867
X-APPLE-STRUCTURED-LOCATION;VALUE=URI;X-ADDRESS=Universal Athletic Club 2323 Oregon Pike Lancaster PA 1760 United States;X-APPLE-RADIUS=500;X-TITLE=2323 Oregon Pike:geo:-76.18867,39.81037
END:VEVENT
BEGIN:VEVENT
DTSTART;TZID=America/New_York:20260712T120000
DTEND;TZID=America/New_York:20260712T150000
DTSTAMP:20260423T073556
CREATED:20210420T164227Z
LAST-MODIFIED:20260331T150152Z
UID:10000821-1783857600-1783868400@www.universalathleticclub.com
SUMMARY:Junior Certification
DESCRIPTION:This course is for teens between the ages of 12 – 15. The course certifies teens so that they may use selected fitness equipment without direct parental supervision. It also includes 2 Weeks of Youth Athletic Training and a tshirt! Registration is required. Cost is $45 per student. \nBUY NOW
URL:https://www.universalathleticclub.com/event/junior-certification-2/2026-07-12/
LOCATION:Universal Athletic Club\, 2323 Oregon Pike\, Lancaster\, PA\, 1760\, United States
ATTACH;FMTTYPE=image/png:https://www.universalathleticclub.com/wp-content/uploads/2023/09/EventPageImage_1200x628_JuniorCert.png
GEO:39.81037;-76.18867
X-APPLE-STRUCTURED-LOCATION;VALUE=URI;X-ADDRESS=Universal Athletic Club 2323 Oregon Pike Lancaster PA 1760 United States;X-APPLE-RADIUS=500;X-TITLE=2323 Oregon Pike:geo:-76.18867,39.81037
END:VEVENT
BEGIN:VEVENT
DTSTART;TZID=America/New_York:20260816T100000
DTEND;TZID=America/New_York:20260816T130000
DTSTAMP:20260423T073556
CREATED:20210420T164227Z
LAST-MODIFIED:20260331T150152Z
UID:10000822-1786874400-1786885200@www.universalathleticclub.com
SUMMARY:Junior Certification
DESCRIPTION:This course is for teens between the ages of 12 – 15. The course certifies teens so that they may use selected fitness equipment without direct parental supervision. It also includes 2 Weeks of Youth Athletic Training and a tshirt! Registration is required. Cost is $45 per student. \nBUY NOW
URL:https://www.universalathleticclub.com/event/junior-certification-2/2026-08-16/
LOCATION:Universal Athletic Club\, 2323 Oregon Pike\, Lancaster\, PA\, 1760\, United States
ATTACH;FMTTYPE=image/png:https://www.universalathleticclub.com/wp-content/uploads/2023/09/EventPageImage_1200x628_JuniorCert.png
GEO:39.81037;-76.18867
X-APPLE-STRUCTURED-LOCATION;VALUE=URI;X-ADDRESS=Universal Athletic Club 2323 Oregon Pike Lancaster PA 1760 United States;X-APPLE-RADIUS=500;X-TITLE=2323 Oregon Pike:geo:-76.18867,39.81037
END:VEVENT
END:VCALENDAR